BEGIN:VCALENDAR
VERSION:2.0
PRODID:-//eventon.com NONSGML v1.0//EN
CALSCALE:GREGORIAN
METHOD:PUBLISH
BEGIN:VEVENT
UID:69e5e4d37e6cc
DTSTAMP:20260420T083323Z
DTSTART:20240808T170000Z
DTEND:20240808T210000Z
LOCATION:Musikatelier Ryf Beundenstrasse 6\,  4536 Attiswil
SUMMARY:Jazz Trio
DESCRIPTION:Formation Die drei Musiker vereinen sich mit Jazz\,  Swing\,  B
 oogie Woogie etc. Moody Rassouli\,  der vielseitige Pianist\,  Sänger und 
 Entertainer\,  Andi David\,  der Schlagzeuger mit seiner einfühlsamen Spie
 lweise und Heinz Ryf mit seinem groovenden Kontrabass. Zur Ergänzung des T
 rios gastiert der virtuose Posaunist Vincent Lachat im Musikatelier Ryf. Er
  ist[..]\nhttps://musikatelier-ryf.ch/events/jazz-trio/
URL:https://musikatelier-ryf.ch/events/jazz-trio/
END:VEVENT
END:VCALENDAR