BEGIN:VCALENDAR
VERSION:2.0
PRODID:-//eventon.com NONSGML v1.0//EN
CALSCALE:GREGORIAN
METHOD:PUBLISH
BEGIN:VEVENT
UID:69e5faa946208
DTSTAMP:20260420T100633Z
DTSTART:20240523T170000Z
DTEND:20240523T210000Z
LOCATION:Musikatelier Ryf Beundenstrasse 6\,  4536 Attiswil
SUMMARY:Familienkapelle Vogel
DESCRIPTION:Formation Die Familienkapelle Vogel von Romoos im Entlebuch mac
 ht Musik aus Leidenschaft. Ihr vielfältiges Repertoire ist ein bunter Mix 
 aus traditioneller Ländlermusik\,  moderner Volksmusik und neuen Interpret
 ationen von bekannten Melodien. Ihre Musik ist genau so vielfältig wie die
  Musikanten selbst. Das sind Carolin am Akkordeon\,  Julia an der Klarinett
 e\,  Linus[..]\nhttps://musikatelier-ryf.ch/events/schwyzeroergeli-quartett
 -5/
URL:https://musikatelier-ryf.ch/events/schwyzeroergeli-quartett-5/
END:VEVENT
END:VCALENDAR