BEGIN:VCALENDAR
VERSION:2.0
PRODID:-//eventon.com NONSGML v1.0//EN
CALSCALE:GREGORIAN
METHOD:PUBLISH
BEGIN:VEVENT
UID:69e8bf6bd1491
DTSTAMP:20260422T123035Z
DTSTART:20240104T180000Z
DTEND:20240104T220000Z
LOCATION:Musikatelier Ryf Beundenstrasse 6\,  4536 Attiswil
SUMMARY:Akkordeonduo Franz & Jolanda Schmidig
DESCRIPTION:&nbsp; Formation Franz und Jolanda Schmidig sind musikalisch mi
 t ihren 6 Kindern in ihrer eigenen Familienkapelle in verschiedenen Besetzu
 ngen bereits seit 25 Jahren unterwegs. Sie haben sowohl aus der traditionel
 len wie auch aus der neuen Volksmusik viel Bekanntes aber auch Unbekanntes 
 im Gepäck. Und ein paar französische Musettes oder argentinische[..]\nhtt
 ps://musikatelier-ryf.ch/events/akkordeon-duo-franz-jolanda-schmidig/
URL:https://musikatelier-ryf.ch/events/akkordeon-duo-franz-jolanda-schmidig/
END:VEVENT
END:VCALENDAR