BEGIN:VCALENDAR
VERSION:2.0
PRODID:-//eventon.com NONSGML v1.0//EN
CALSCALE:GREGORIAN
METHOD:PUBLISH
BEGIN:VEVENT
UID:69e5fb422dc97
DTSTAMP:20260420T100906Z
DTSTART:20231130T180000Z
DTEND:20231130T220000Z
LOCATION:Musikatelier Ryf Beundenstrasse 6\,  4536 Attiswil
SUMMARY:Schwyzerörgeli Quartett
DESCRIPTION:Formation Die Ländlerbuebe Biel haben sich 1996 nach 20 erfolg
 reichen Jahren &#8220;aufgelöst&#8221;.  Dank ihrer engen Freundschaft tr
 eten sie immer noch ab und zu auf\,  so auch bei uns im Musikatelier Ryf. D
 ie &#8220;Ur-Ländlerbuebe&#8221; sind Martin Schütz\,  Hardy Mischler sow
 ie Peter Grossen. Der leider verstorbene Güschtu (Walter Schütz) wurde er
 setzt durch[..]\nhttps://musikatelier-ryf.ch/events/schwyzeroergeli-quartet
 t-4/
URL:https://musikatelier-ryf.ch/events/schwyzeroergeli-quartett-4/
END:VEVENT
END:VCALENDAR